BEGIN:VCALENDAR
VERSION:2.0
PRODID:-//hacksw/handcal//NONSGML v1.0//EN
BEGIN:VEVENT
SUMMARY:randonnee des Iris a Correns,
UID:b972ca94-8f45-4d5d-8860-3c2ca0231757
DTSTART:20260327T123000Z
DTEND:20260327T131500Z
LOCATION:Localisation   
CATEGORIES:Sportif
STATUS:
DESCRIPTION:<h2><span style="font-size:14px;"><span><span><span><span
 style="color:#444444;"><span style="font-family:Arial, Helvetica,
 sans-serif;"><span style="font-style:normal;"><span><span
 style="font-weight:400;"><span><span
 style="background-color:#ffffff;"><span><span><span><font
 size="4"><font><span><span><span
 style="font-family:Georgia;">C</span></span></span></font></font></span></span></span></span></span></span></span></span></span></span></span></span></span></span><span
 style="font-size:22px;"><span><span><span><span
 style="color:#444444;"><span style="font-family:Arial, Helvetica,
 sans-serif;"><span style="font-style:normal;"><span><span
 style="font-weight:400;"><span><span
 style="background-color:#ffffff;"><span><span><span><font><span><span><span
 style="font-family:Georgia;">ette marche n'est pas dans le programme
 VAR et permettra aux personnes qui ont suivi ma formation de faire un
 premier essai, je serais present pour les aider a trouver le bon
 chemin, eventuellement ?               
   </span></span></span></font></span></span></span></span></span></span></span></span></span></span></span></span></span></span></h2>
 
 <h2><span
 style="font-size:22px;"><span><span><span><span
 style="color:#444444;"><span style="font-family:Arial, Helvetica,
 sans-serif;"><span style="font-style:normal;"><span><span
 style="font-weight:400;"><span><span
 style="background-color:#ffffff;"><span><span><span><font><span><span><span
 style="font-family:Georgia;">Balade de 6km500 avec un D+ de 150m
 .</span></span></span></font></span></span></span></span></span></span></span></span></span></span></span></span></span></span></h2>
 
 <h2><span
 style="font-size:22px;"><span><span><span><span
 style="color:#444444;"><span style="font-family:Arial, Helvetica,
 sans-serif;"><span style="font-style:normal;"><span><span
 style="font-weight:400;"><span><span
 style="background-color:#ffffff;"><span><span><span><font><span><span><span
 style="font-family:Georgia;">Itineraire voiture : Montfort - Correns
 , ne pas entrer dans le village, apres un champ d'oliviers sur la
 gauche, au niveau d'un calvaire croix du Christ tourner tout a gauche
 et suivre cette petite route sur 2kms jusqu'au sens interdit, le
 contourner puis tourner a droite (Ne pas tenir compte du panneau
 d'interdiction) et avancer jusqu'au champs d'oliviers . Stationner
 sur la gauche pour ne pas gener le
 passage </span></span></span></font></span></span></span></span></span></span></span></span></span></span></span></span></span></span></h2>
 
 <h2><span
 style="font-size:22px;"><span><span><span><span
 style="color:#444444;"><span style="font-family:Arial, Helvetica,
 sans-serif;"><span style="font-style:normal;"><span><span
 style="font-weight:400;"><span><span
 style="background-color:#ffffff;"><span><span><span><font><span><span><span
 style="font-family:Georgia;">Coordonnees GPS: 43.4746 ,
 6.0594 </span></span></span></font></span></span></span></span></span></span></span></span></span></span></span></span></span></span></h2>
 
 <h2><span
 style="font-size:22px;"><span><span><span><span
 style="color:#444444;"><span style="font-family:Arial, Helvetica,
 sans-serif;"><span style="font-style:normal;"><span><span
 style="font-weight:400;"><span><span
 style="background-color:#ffffff;"><span><span><span><font><span><span><span
 style="font-family:Georgia;">ou 43°28'28 .
 6°03'03 </span></span></span></font></span></span></span></span></span></span></span></span></span></span></span></span></span></span></h2>
 
 <h2><span
 style="font-size:22px;"><span><span><span><span
 style="color:#444444;"><span style="font-family:Arial, Helvetica,
 sans-serif;"><span style="font-style:normal;"><span><span
 style="font-weight:400;"><span><span
 style="background-color:#ffffff;"><span><span><span><font><span><span><span
 style="font-family:Georgia;">Distance 27kms AR               
                        
   </span></span></span></font></span></span></span></span></span></span></span></span></span></span></span></span></span></span></h2>
 
 <h2><span
 style="font-size:22px;"><span><span><span><span
 style="color:#444444;"><span style="font-family:Arial, Helvetica,
 sans-serif;"><span style="font-style:normal;"><span><span
 style="font-weight:400;"><span><span
 style="background-color:#ffffff;"><span><span><span><font><span><span><span
 style="font-family:Georgia;">Depart de Carces 13h30 et de la marche
 14h10   
  </span></span></span></font></span></span></span></span></span></span></span></span></span></span></span></span></span></span></h2>
 
 <h2><span
 style="font-size:22px;"><span><span><span><span
 style="color:#444444;"><span style="font-family:Arial, Helvetica,
 sans-serif;"><span style="font-style:normal;"><span><span
 style="font-weight:400;"><span><span
 style="background-color:#ffffff;"><span><span><span><font><span><span><span
 style="font-family:Georgia;">Amities 
  </span></span></span></font></span></span></span></span></span></span></span></span></span></span></span></span></span></span></h2>
 
 <h2><span
 style="font-size:22px;"><span><span><span><span
 style="color:#444444;"><span style="font-family:Arial, Helvetica,
 sans-serif;"><span style="font-style:normal;"><span><span
 style="font-weight:400;"><span><span
 style="background-color:#ffffff;"><span><span><span><font><span><span><span
 style="font-family:Georgia;">Michel</span></span></span></font></span></span></span></span></span></span></span></span></span></span></span></span></span></span></h2>
URL;VALUE=URI:https://www.verdon-argens-randonnee.fr/evenements/2026/03/27/randonnee-des-iris-a-correns-2431165
END:VEVENT
END:VCALENDAR
